BEGIN:VCALENDAR
VERSION:2.0
PRODID:-//The Shire Land Rover Club - ECPv6.15.20//NONSGML v1.0//EN
CALSCALE:GREGORIAN
METHOD:PUBLISH
X-ORIGINAL-URL:https://www.shirelrc.com
X-WR-CALDESC:Events for The Shire Land Rover Club
REFRESH-INTERVAL;VALUE=DURATION:PT1H
X-Robots-Tag:noindex
X-PUBLISHED-TTL:PT1H
BEGIN:VTIMEZONE
TZID:Europe/London
BEGIN:DAYLIGHT
TZOFFSETFROM:+0000
TZOFFSETTO:+0100
TZNAME:BST
DTSTART:20250330T010000
END:DAYLIGHT
BEGIN:STANDARD
TZOFFSETFROM:+0100
TZOFFSETTO:+0000
TZNAME:GMT
DTSTART:20251026T010000
END:STANDARD
BEGIN:DAYLIGHT
TZOFFSETFROM:+0000
TZOFFSETTO:+0100
TZNAME:BST
DTSTART:20260329T010000
END:DAYLIGHT
BEGIN:STANDARD
TZOFFSETFROM:+0100
TZOFFSETTO:+0000
TZNAME:GMT
DTSTART:20261025T010000
END:STANDARD
BEGIN:DAYLIGHT
TZOFFSETFROM:+0000
TZOFFSETTO:+0100
TZNAME:BST
DTSTART:20270328T010000
END:DAYLIGHT
BEGIN:STANDARD
TZOFFSETFROM:+0100
TZOFFSETTO:+0000
TZNAME:GMT
DTSTART:20271031T010000
END:STANDARD
END:VTIMEZONE
BEGIN:VEVENT
DTSTART;TZID=Europe/London:20261001T193000
DTEND;TZID=Europe/London:20261001T230000
DTSTAMP:20260421T124257
CREATED:20251130T232416Z
LAST-MODIFIED:20251130T232416Z
UID:3241-1790883000-1790895600@www.shirelrc.com
SUMMARY:October Club Social
DESCRIPTION:Come and join us at the Flower Pots Inn at Cheriton – we get together from around 7:30pm (arrive any time!) for an evening of general chat\, who’s broken what\, upcoming events and adventures etc. \nClub socials are free and open to everyone\, whether you’re already a member or just want to find out a bit more about the club. \nIt would help the pub if you can pre-order food but it’s not essential.
URL:https://www.shirelrc.com/event/october-club-social-26/
LOCATION:The Flower Pots Inn\, The Flower Pots Inn & Brewery\, Brandy Mount\, Cheriton\, Alresford\, Hampshire\, SO24 0QQ\, United Kingdom
CATEGORIES:Social
ATTACH;FMTTYPE=image/jpeg:https://www.shirelrc.com/wp-content/uploads/2025/01/324aa-scaled-1.jpg
END:VEVENT
BEGIN:VEVENT
DTSTART;TZID=Europe/London:20261011T100000
DTEND;TZID=Europe/London:20261011T160000
DTSTAMP:20260421T124257
CREATED:20251130T230219Z
LAST-MODIFIED:20260416T202202Z
UID:3225-1791712800-1791734400@www.shirelrc.com
SUMMARY:Play Day – Mannington
DESCRIPTION:Mannington is a site of two halves\, one half has tight technical forest tracks with some deep swampy sections\, mud runs\, dug out climbs and gullies\, and the other half is a large open arena which is great for all vehicles and abilities\, with water of varying depth so you can dip a toe or plough in bonnet-deep\, plus lots of wide open climbs and tracks and some twisty technical bits in between the trees. \nA great site for all vehicles from shiny to hardcore – our rules on which vehicles can come are here. \nMANNINGTON SITE LOCATION\nFor anyone who hasn’t been to Mannington before the nearest postcode is BH21 6SB \nThe site entrance is located on the main road at the crossroads with Horton Road and Burt’s Lane. Shire LRC signs will be located at this point and to guide you along the farm track – please close the gate after you\, and PLEASE drive carefully and considerately as there are pedestrians and horses using this track. \nThe Google Maps waypoint is 50.868091\, -1.912104\nYou can type the above co-ordinates into Google maps and it will take you directly to the site.
URL:https://www.shirelrc.com/event/play-day-mannington-oct-2026/
LOCATION:Mannington\, Horton Road\, Mannington\, United Kingdom
CATEGORIES:Play Day
ATTACH;FMTTYPE=image/jpeg:https://www.shirelrc.com/wp-content/uploads/2017/08/Mannington.jpg
END:VEVENT
END:VCALENDAR