BEGIN:VCALENDAR
VERSION:2.0
PRODID:-//The Shire Land Rover Club - ECPv6.15.20//NONSGML v1.0//EN
CALSCALE:GREGORIAN
METHOD:PUBLISH
X-ORIGINAL-URL:https://www.shirelrc.com
X-WR-CALDESC:Events for The Shire Land Rover Club
REFRESH-INTERVAL;VALUE=DURATION:PT1H
X-Robots-Tag:noindex
X-PUBLISHED-TTL:PT1H
BEGIN:VTIMEZONE
TZID:Europe/London
BEGIN:DAYLIGHT
TZOFFSETFROM:+0000
TZOFFSETTO:+0100
TZNAME:BST
DTSTART:20240331T010000
END:DAYLIGHT
BEGIN:STANDARD
TZOFFSETFROM:+0100
TZOFFSETTO:+0000
TZNAME:GMT
DTSTART:20241027T010000
END:STANDARD
BEGIN:DAYLIGHT
TZOFFSETFROM:+0000
TZOFFSETTO:+0100
TZNAME:BST
DTSTART:20250330T010000
END:DAYLIGHT
BEGIN:STANDARD
TZOFFSETFROM:+0100
TZOFFSETTO:+0000
TZNAME:GMT
DTSTART:20251026T010000
END:STANDARD
BEGIN:DAYLIGHT
TZOFFSETFROM:+0000
TZOFFSETTO:+0100
TZNAME:BST
DTSTART:20260329T010000
END:DAYLIGHT
BEGIN:STANDARD
TZOFFSETFROM:+0100
TZOFFSETTO:+0000
TZNAME:GMT
DTSTART:20261025T010000
END:STANDARD
END:VTIMEZONE
BEGIN:VEVENT
DTSTART;TZID=Europe/London:20251002T193000
DTEND;TZID=Europe/London:20251002T230000
DTSTAMP:20260421T131648
CREATED:20250926T143542Z
LAST-MODIFIED:20250926T143542Z
UID:3104-1759433400-1759446000@www.shirelrc.com
SUMMARY:October Club Social - Flower Pots Inn
DESCRIPTION:Come and join us at the Flower Pots Inn at Cheriton – we get together from around 7:30pm (arrive any time!) for an evening of general chat\, who’s broken what\, upcoming events and adventures etc. \nClub socials are free and open to everyone\, whether you’re already a member or just want to find out a bit more about the club. \nIt would help the pub if you can pre-order food but it’s not essential.
URL:https://www.shirelrc.com/event/october-club-social-flower-pots-inn/
LOCATION:The Flower Pots Inn\, The Flower Pots Inn & Brewery\, Brandy Mount\, Cheriton\, Alresford\, Hampshire\, SO24 0QQ\, United Kingdom
CATEGORIES:Social
ATTACH;FMTTYPE=image/jpeg:https://www.shirelrc.com/wp-content/uploads/2025/01/324aa-scaled-1.jpg
END:VEVENT
BEGIN:VEVENT
DTSTART;TZID=Europe/London:20251005T093000
DTEND;TZID=Europe/London:20251005T160000
DTSTAMP:20260421T131648
CREATED:20250118T174847Z
LAST-MODIFIED:20250118T174847Z
UID:3005-1759656600-1759680000@www.shirelrc.com
SUMMARY:Newbury 4x4 and Vintage Spares Day
DESCRIPTION:We will have a club stand at this event and will be attending as a group – if you show your membership card you can get a free cup of tea or coffee from our stand. We’ll also be offering parts drop-off & collection for members who’d bought something big & heavy too early in the day and don’t want to carry it round and maybe even the use of a trolley for heavy items!\n \nThis is an independent event organised by Land Rover Monthly – details are below for information\, please check details & book your tickets at www.landrovermonthly.co.uk. \nShire Members Selling: If you’d like to join our group next to the club stand (and tea urn!) contact us in advance\, we usually meet at Sutton Scotney services 1st thing before heading into the site as a group so we can keep an eye on each other’s stands etc. \nShire Members Buying: Buyers are let into the site a bit later\, there’s usually a group who also congregate at a services on the way up before heading in to site. This can give you a friendly face to wander round the event with and people can help spot rare treasures that others are looking for! Again\, contact us or keep an eye on our Facebook group to see who’s going and tag along. \n\nThis is an independent event organised by LRM – details are below for information\, please check details & book your tickets at www.landrovermonthly.co.uk. \nThere’s everything you’d expect from a show of this size and calibre\, including a Land Rover\, 4×4 and vintage section with new\, used\, old and obsolete parts. Finds include classic parts\, spares\, accessories and motoring antiques – you’ll even find tools\, ex-army surplus and equipment\, yard and shed clear-outs\, stationary engines\, autojumble\, tractor parts\, barn finds\, agri-jumble\, camping gear and even vehicle sales. \nThere really is something for everyone at Newbury! \n 
URL:https://www.shirelrc.com/event/newbury-4x4-and-vintage-spares-day-7/
LOCATION:Newbury Showground\, Chieveley\, RG18 9QZ\, United Kingdom
CATEGORIES:Shows,Social
ATTACH;FMTTYPE=image/jpeg:https://www.shirelrc.com/wp-content/uploads/2024/09/LRMEventpagesmainimage_1232x6573.jpg
END:VEVENT
BEGIN:VEVENT
DTSTART;TZID=Europe/London:20251012T100000
DTEND;TZID=Europe/London:20251012T160000
DTSTAMP:20260421T131648
CREATED:20250629T141126Z
LAST-MODIFIED:20250629T141126Z
UID:3059-1760263200-1760284800@www.shirelrc.com
SUMMARY:Green Lane Day - location TBC
DESCRIPTION:We are planning to run a green lane day on this date – places are limited so it’s first come first served. Please go to our “join a green lane day” page to get your name on the list.
URL:https://www.shirelrc.com/event/green-lane-day-location-tbc-2/
LOCATION:TBC
CATEGORIES:Greenlaning
ATTACH;FMTTYPE=image/jpeg:https://www.shirelrc.com/wp-content/uploads/2024/06/IMG-20240629-WA0016.jpg
END:VEVENT
BEGIN:VEVENT
DTSTART;TZID=Europe/London:20251019T100000
DTEND;TZID=Europe/London:20251019T160000
DTSTAMP:20260421T131648
CREATED:20250629T142230Z
LAST-MODIFIED:20250629T142230Z
UID:3063-1760868000-1760889600@www.shirelrc.com
SUMMARY:Play Day - Slab Common
DESCRIPTION:This is a great site – a military training area with sandy soil\, some good mud sections & holes and a few twisty bits between the trees as well as some large open areas which are ideal for those wanting to avoid damage. \nNote that due to the cost of hiring the site entry will be £35 for ShireLRC members and affiliated clubs\, and £40 for non-members. Book in advance via Eventbrite here. \nSite entry is off Oakhanger Road just West of Bordon\, What3Words location: simmer.backs.resonates.
URL:https://www.shirelrc.com/event/play-day-slab-common-2025/
LOCATION:Slab Common\, Oakhanger Road\, Bordon\, Hampshire\, GU35 9HH\, United Kingdom
CATEGORIES:Play Day
ATTACH;FMTTYPE=image/jpeg:https://www.shirelrc.com/wp-content/uploads/2025/06/2011-09-08_17-36-08.jpg
END:VEVENT
END:VCALENDAR