BEGIN:VCALENDAR
VERSION:2.0
PRODID:-//The Shire Land Rover Club - ECPv6.15.20//NONSGML v1.0//EN
CALSCALE:GREGORIAN
METHOD:PUBLISH
X-WR-CALNAME:The Shire Land Rover Club
X-ORIGINAL-URL:https://www.shirelrc.com
X-WR-CALDESC:Events for The Shire Land Rover Club
REFRESH-INTERVAL;VALUE=DURATION:PT1H
X-Robots-Tag:noindex
X-PUBLISHED-TTL:PT1H
BEGIN:VTIMEZONE
TZID:Europe/London
BEGIN:DAYLIGHT
TZOFFSETFROM:+0000
TZOFFSETTO:+0100
TZNAME:BST
DTSTART:20240331T010000
END:DAYLIGHT
BEGIN:STANDARD
TZOFFSETFROM:+0100
TZOFFSETTO:+0000
TZNAME:GMT
DTSTART:20241027T010000
END:STANDARD
BEGIN:DAYLIGHT
TZOFFSETFROM:+0000
TZOFFSETTO:+0100
TZNAME:BST
DTSTART:20250330T010000
END:DAYLIGHT
BEGIN:STANDARD
TZOFFSETFROM:+0100
TZOFFSETTO:+0000
TZNAME:GMT
DTSTART:20251026T010000
END:STANDARD
BEGIN:DAYLIGHT
TZOFFSETFROM:+0000
TZOFFSETTO:+0100
TZNAME:BST
DTSTART:20260329T010000
END:DAYLIGHT
BEGIN:STANDARD
TZOFFSETFROM:+0100
TZOFFSETTO:+0000
TZNAME:GMT
DTSTART:20261025T010000
END:STANDARD
END:VTIMEZONE
BEGIN:VEVENT
DTSTART;TZID=Europe/London:20250904T193000
DTEND;TZID=Europe/London:20250904T230000
DTSTAMP:20260421T144024
CREATED:20250629T134257Z
LAST-MODIFIED:20250629T134257Z
UID:3044-1757014200-1757026800@www.shirelrc.com
SUMMARY:September Club Social - Flower Pots Inn
DESCRIPTION:Come and join us at the Flower Pots Inn at Cheriton – we get together from around 7:30pm for an evening of general chat\, who’s broken what\, upcoming events and adventures etc. \nClub socials are free and open to everyone\, whether you’re already a member or just want to find out a bit more about the club. \nIt would help the pub if you can pre-order food but it’s not essential.
URL:https://www.shirelrc.com/event/september-club-social-2025/
LOCATION:The Flower Pots Inn\, The Flower Pots Inn & Brewery\, Brandy Mount\, Cheriton\, Alresford\, Hampshire\, SO24 0QQ\, United Kingdom
CATEGORIES:Social
ATTACH;FMTTYPE=image/jpeg:https://www.shirelrc.com/wp-content/uploads/2025/01/324aa-scaled-1.jpg
END:VEVENT
BEGIN:VEVENT
DTSTART;TZID=Europe/London:20250914T100000
DTEND;TZID=Europe/London:20250914T160000
DTSTAMP:20260421T144024
CREATED:20250629T135224Z
LAST-MODIFIED:20250629T135253Z
UID:3049-1757844000-1757865600@www.shirelrc.com
SUMMARY:Play Day – Mannington
DESCRIPTION:Mannington is a site of two halves\, one half has tight technical forest tracks with some deep swampy sections\, mud runs\, dug out climbs and gulleys\, and the other half is a large open arena which is great for all vehicles and abilities\, with water of varying depth so you can dip a toe or plough in bonnet-deep\, plus lots of wide open climbs and tracks and some twisty technical bits in between the trees. \nA great site for all vehicles from shiny to hardcore – our rules on which vehicles can come are here. \nYou can save time and book a ticket in advance via Eventbrite here\, or you can pay on the day as usual. \nMANNINGTON SITE LOCATION\nFor anyone who hasn’t been to Mannington before the nearest postcode is BH21 6SB \nThe site entrance is located on the main road at the crossroads with Horton Road and Burt’s Lane. Shire LRC signs will be located at this point and to guide you along the farm track – please close the gate after you\, and PLEASE drive carefully and considerately as there are pedestrians and horses using this track. \nThe Google Maps waypoint is 50.868091\, -1.912104\nYou can type the above co-ordinates into Google maps and it will take you directly to the site.
URL:https://www.shirelrc.com/event/play-day-mannington-14-09-2025/
LOCATION:Mannington\, Horton Road\, Mannington\, United Kingdom
CATEGORIES:Play Day
ATTACH;FMTTYPE=image/jpeg:https://www.shirelrc.com/wp-content/uploads/2017/08/Mannington.jpg
END:VEVENT
BEGIN:VEVENT
DTSTART;TZID=Europe/London:20250921T100000
DTEND;TZID=Europe/London:20250921T160000
DTSTAMP:20260421T144024
CREATED:20250629T141043Z
LAST-MODIFIED:20250629T141043Z
UID:3057-1758448800-1758470400@www.shirelrc.com
SUMMARY:Green Lane Day - location TBC
DESCRIPTION:We are planning to run a green lane day on this date – places are limited so it’s first come first served. Please go to our “join a green lane day” page to get your name on the list.
URL:https://www.shirelrc.com/event/green-lane-day-location-tbc/
LOCATION:TBC
CATEGORIES:Greenlaning
ATTACH;FMTTYPE=image/jpeg:https://www.shirelrc.com/wp-content/uploads/2024/06/IMG-20240629-WA0016.jpg
END:VEVENT
BEGIN:VEVENT
DTSTART;TZID=Europe/London:20250926T160000
DTEND;TZID=Europe/London:20250928T120000
DTSTAMP:20260421T144024
CREATED:20250722T221326Z
LAST-MODIFIED:20250831T151123Z
UID:3085-1758902400-1759060800@www.shirelrc.com
SUMMARY:Shire Summer Games & Camping Weekend
DESCRIPTION:This is an exciting new event for us – at its core this is a relaxed weekend camping & social event for members\, but we’re also throwing in some optional activities during Saturday to keep everyone entertained. \nPeople can come & go as they please all weekend and are free to join in or just spectate\, the ticket is a flat rate per vehicle for the whole weekend. \n\nFriday – Arrive on site from 4pm\, we’re hoping to have a communal bonfire in the evening.\nSaturday – activities during the day followed by an optional BBQ in the evening\, we provide the BBQ + fire and everyone can bring whatever they want to throw on it.\nSunday – we’re hoping to organise a green lane run for those who are interested\n\nActivities we are planning to run on Saturday: \n\nA Land Rover / truck pull\nTrailer reversing\nDriving course\nBlind drive of faith\nDisco tilt challenge\n\nPlease book tickets via Eventbrite here.
URL:https://www.shirelrc.com/event/shire-summer-games-camping-weekend/
LOCATION:Hare Farm\, Hare Lane\, Twyford\, Hampshire\, SO21 1FR\, United Kingdom
CATEGORIES:Camping,Social
ATTACH;FMTTYPE=image/jpeg:https://www.shirelrc.com/wp-content/uploads/2025/07/Shire_Summer_Games_Poster_2025_v2.jpg
END:VEVENT
END:VCALENDAR