BEGIN:VCALENDAR
VERSION:2.0
PRODID:-//The Shire Land Rover Club - ECPv6.15.20//NONSGML v1.0//EN
CALSCALE:GREGORIAN
METHOD:PUBLISH
X-WR-CALNAME:The Shire Land Rover Club
X-ORIGINAL-URL:https://www.shirelrc.com
X-WR-CALDESC:Events for The Shire Land Rover Club
REFRESH-INTERVAL;VALUE=DURATION:PT1H
X-Robots-Tag:noindex
X-PUBLISHED-TTL:PT1H
BEGIN:VTIMEZONE
TZID:Europe/London
BEGIN:DAYLIGHT
TZOFFSETFROM:+0000
TZOFFSETTO:+0100
TZNAME:BST
DTSTART:20240331T010000
END:DAYLIGHT
BEGIN:STANDARD
TZOFFSETFROM:+0100
TZOFFSETTO:+0000
TZNAME:GMT
DTSTART:20241027T010000
END:STANDARD
BEGIN:DAYLIGHT
TZOFFSETFROM:+0000
TZOFFSETTO:+0100
TZNAME:BST
DTSTART:20250330T010000
END:DAYLIGHT
BEGIN:STANDARD
TZOFFSETFROM:+0100
TZOFFSETTO:+0000
TZNAME:GMT
DTSTART:20251026T010000
END:STANDARD
BEGIN:DAYLIGHT
TZOFFSETFROM:+0000
TZOFFSETTO:+0100
TZNAME:BST
DTSTART:20260329T010000
END:DAYLIGHT
BEGIN:STANDARD
TZOFFSETFROM:+0100
TZOFFSETTO:+0000
TZNAME:GMT
DTSTART:20261025T010000
END:STANDARD
END:VTIMEZONE
BEGIN:VEVENT
DTSTART;TZID=Europe/London:20250703T193000
DTEND;TZID=Europe/London:20250703T230000
DTSTAMP:20260421T180000
CREATED:20250629T134005Z
LAST-MODIFIED:20250629T134016Z
UID:3039-1751571000-1751583600@www.shirelrc.com
SUMMARY:July Club Social - Flower Pots Inn
DESCRIPTION:Please note we are at the new venue – the Flower Pots Inn at Cheriton which has been highly recommended by several members and is a great pub serving good food and their own very good beer. \nPop on down and say hello! We get together from around 7:30pm for an evening of general chat\, who’s broken what\, upcoming events and adventures etc. \nClub socials are free and open to everyone\, whether you’re already a member or just want to find out a bit more about the club. \nIt would help the pub if you can pre-order food but it’s not essential.
URL:https://www.shirelrc.com/event/july-club-social-2025/
LOCATION:The Flower Pots Inn\, The Flower Pots Inn & Brewery\, Brandy Mount\, Cheriton\, Alresford\, Hampshire\, SO24 0QQ\, United Kingdom
CATEGORIES:Social
ATTACH;FMTTYPE=image/jpeg:https://www.shirelrc.com/wp-content/uploads/2025/01/324aa-scaled-1.jpg
END:VEVENT
BEGIN:VEVENT
DTSTART;TZID=Europe/London:20250706T100000
DTEND;TZID=Europe/London:20250706T180000
DTSTAMP:20260421T180000
CREATED:20250118T170905Z
LAST-MODIFIED:20250118T175242Z
UID:2981-1751796000-1751824800@www.shirelrc.com
SUMMARY:Simply Land Rover Show - Beaulieu
DESCRIPTION:We have a club stand at this show\, come and join us – please contact us to reserve a spot on the club stand.
URL:https://www.shirelrc.com/event/simply-land-rover-show-beaulieu-2025/
LOCATION:Beaulieu National Motor Museum\, Beaulieu\, Hampshire\, SO42 7ZN\, United Kingdom
CATEGORIES:Shows
ATTACH;FMTTYPE=image/jpeg:https://www.shirelrc.com/wp-content/uploads/2017/07/IMG_7962.jpg
END:VEVENT
BEGIN:VEVENT
DTSTART;TZID=Europe/London:20250712T100000
DTEND;TZID=Europe/London:20250712T160000
DTSTAMP:20260421T180000
CREATED:20250629T140853Z
LAST-MODIFIED:20250629T140853Z
UID:3053-1752314400-1752336000@www.shirelrc.com
SUMMARY:Green Lane Day - Alton Area
DESCRIPTION:We are planning to run a green lane day on this date – places are limited so it’s first come first served. Please go to our “join a green lane day” page to get your name on the list.
URL:https://www.shirelrc.com/event/green-lane-day-alton-area/
LOCATION:TBC
CATEGORIES:Greenlaning
ATTACH;FMTTYPE=image/jpeg:https://www.shirelrc.com/wp-content/uploads/2024/06/IMG-20240629-WA0016.jpg
END:VEVENT
BEGIN:VEVENT
DTSTART;TZID=Europe/London:20250720T110000
DTEND;TZID=Europe/London:20250720T160000
DTSTAMP:20260421T180000
CREATED:20250629T134806Z
LAST-MODIFIED:20250629T135058Z
UID:3046-1753009200-1753027200@www.shirelrc.com
SUMMARY:Club BBQ Social - QE2 Country Park - Butser
DESCRIPTION:We provide the fire\, you bring some food to throw on it! \nWe’re having a free family BBQ social in the beautiful Queen Elizabeth Country Park\, all are welcome to come along & socialise. \nWe will be providing the BBQ & charcoal\, but to keep things simple we ask that you bring your own food to cook on it. \nWe are booked in the “Juniper” BBQ area\, there’s parking right by it and a few bench seats\, although bringing your own chairs would probably be a good idea too. \nThis is a 100% FREE event for all club members
URL:https://www.shirelrc.com/event/club-bbq-social-qe2-country-park-2025/
LOCATION:Queen Elizabeth Country Park\, \, Gravel Hill\, Horndean\, Hampshire\, PO8 0QE\, United Kingdom
CATEGORIES:Social
ATTACH;FMTTYPE=image/jpeg:https://www.shirelrc.com/wp-content/uploads/2025/06/2023-09-10_12-54-55sm.jpg
END:VEVENT
BEGIN:VEVENT
DTSTART;TZID=Europe/London:20250723T193000
DTEND;TZID=Europe/London:20250723T220000
DTSTAMP:20260421T180000
CREATED:20250722T215029Z
LAST-MODIFIED:20250722T215029Z
UID:3083-1753299000-1753308000@www.shirelrc.com
SUMMARY:Portsdown Hill Social
DESCRIPTION:A popular social gathering on Portsdown Hill\, just off the A3\, at the immensely scenic parking spot and burger van\, with great views of Portsmouth and indeed half of the south coast on a clear day. \nEveryone’s welcome\, come along & say hello – whether you’re a current club member or just want to find out what we’re about. People usually gather from about 7pm. \nMick’s Monster Burger is located just off the A3 on Portsdown Hill Road (B2177) overlooking Portsmouth. \n 
URL:https://www.shirelrc.com/event/portsdown-hill-social-11/
LOCATION:Mick’s Monster Burger\, Portsdown Hill\, Portsdown Hill Road (B2177) overlooking Portsmouth\, United Kingdom
CATEGORIES:Social
ATTACH;FMTTYPE=image/jpeg:https://www.shirelrc.com/wp-content/uploads/2019/08/IMG_20190725_194801-e1565683503685.jpg
END:VEVENT
END:VCALENDAR