BEGIN:VCALENDAR
VERSION:2.0
PRODID:-//The Shire Land Rover Club - ECPv6.15.20//NONSGML v1.0//EN
CALSCALE:GREGORIAN
METHOD:PUBLISH
X-WR-CALNAME:The Shire Land Rover Club
X-ORIGINAL-URL:https://www.shirelrc.com
X-WR-CALDESC:Events for The Shire Land Rover Club
REFRESH-INTERVAL;VALUE=DURATION:PT1H
X-Robots-Tag:noindex
X-PUBLISHED-TTL:PT1H
BEGIN:VTIMEZONE
TZID:Europe/London
BEGIN:DAYLIGHT
TZOFFSETFROM:+0000
TZOFFSETTO:+0100
TZNAME:BST
DTSTART:20240331T010000
END:DAYLIGHT
BEGIN:STANDARD
TZOFFSETFROM:+0100
TZOFFSETTO:+0000
TZNAME:GMT
DTSTART:20241027T010000
END:STANDARD
BEGIN:DAYLIGHT
TZOFFSETFROM:+0000
TZOFFSETTO:+0100
TZNAME:BST
DTSTART:20250330T010000
END:DAYLIGHT
BEGIN:STANDARD
TZOFFSETFROM:+0100
TZOFFSETTO:+0000
TZNAME:GMT
DTSTART:20251026T010000
END:STANDARD
BEGIN:DAYLIGHT
TZOFFSETFROM:+0000
TZOFFSETTO:+0100
TZNAME:BST
DTSTART:20260329T010000
END:DAYLIGHT
BEGIN:STANDARD
TZOFFSETFROM:+0100
TZOFFSETTO:+0000
TZNAME:GMT
DTSTART:20261025T010000
END:STANDARD
END:VTIMEZONE
BEGIN:VEVENT
DTSTART;TZID=Europe/London:20250403T193000
DTEND;TZID=Europe/London:20250403T230000
DTSTAMP:20260421T225927
CREATED:20250118T165952Z
LAST-MODIFIED:20250118T165952Z
UID:2972-1743708600-1743721200@www.shirelrc.com
SUMMARY:April Club Social
DESCRIPTION:Pop on down and say hello! \nWe get together from around 7:30pm for an evening of general chat\, who’s broken what\, upcoming events and adventures etc. \nClub socials are free and open to everyone\, whether you’re already a member or just want to find out a bit more about the club. \nAt the King Rufus pub in Chandlers Ford\, we usually congregate in the function room or the alcove to the far right hand end of the bar – if you can’t find us just ask at the bar. \n 
URL:https://www.shirelrc.com/event/april-club-social-2025/
LOCATION:The King Rufus\, 135 Winchester Road\, Chandlers Ford\, Eastleigh\, SO53 2DU\, SO53 2DU\, United Kingdom
CATEGORIES:Social
ATTACH;FMTTYPE=image/png:https://www.shirelrc.com/wp-content/uploads/2018/01/Capture-e1563347934898.png
END:VEVENT
BEGIN:VEVENT
DTSTART;TZID=Europe/London:20250406T093000
DTEND;TZID=Europe/London:20250406T160000
DTSTAMP:20260421T225927
CREATED:20250118T174720Z
LAST-MODIFIED:20250118T174803Z
UID:3003-1743931800-1743955200@www.shirelrc.com
SUMMARY:Newbury 4x4 and Vintage Spares Day
DESCRIPTION:We will have a club stand at this event and will be attending as a group – if you show your membership card you can get a free cup of tea or coffee from our stand. We’ll also be offering parts drop-off & collection for members who’d bought something big & heavy too early in the day and don’t want to carry it round and maybe even the use of a trolley for heavy items!\n \nThis is an independent event organised by Land Rover Monthly – details are below for information\, please check details & book your tickets at www.landrovermonthly.co.uk. \nShire Members Selling: If you’d like to join our group next to the club stand (and tea urn!) contact us in advance\, we usually meet at Sutton Scotney services 1st thing before heading into the site as a group so we can keep an eye on each other’s stands etc. \nShire Members Buying: Buyers are let into the site a bit later\, there’s usually a group who also congregate at a services on the way up before heading in to site. This can give you a friendly face to wander round the event with and people can help spot rare treasures that others are looking for! Again\, contact us or keep an eye on our Facebook group to see who’s going and tag along. \n\nThis is an independent event organised by LRM – details are below for information\, please check details & book your tickets at www.landrovermonthly.co.uk. \nThere’s everything you’d expect from a show of this size and calibre\, including a Land Rover\, 4×4 and vintage section with new\, used\, old and obsolete parts. Finds include classic parts\, spares\, accessories and motoring antiques – you’ll even find tools\, ex-army surplus and equipment\, yard and shed clear-outs\, stationary engines\, autojumble\, tractor parts\, barn finds\, agri-jumble\, camping gear and even vehicle sales. \nThere really is something for everyone at Newbury! \n 
URL:https://www.shirelrc.com/event/newbury-4x4-and-vintage-spares-day-6/
LOCATION:Newbury Showground\, Chieveley\, RG18 9QZ\, United Kingdom
CATEGORIES:Shows,Social
ATTACH;FMTTYPE=image/jpeg:https://www.shirelrc.com/wp-content/uploads/2024/09/LRMEventpagesmainimage_1232x6573.jpg
END:VEVENT
BEGIN:VEVENT
DTSTART;TZID=Europe/London:20250420T100000
DTEND;TZID=Europe/London:20250420T160000
DTSTAMP:20260421T225927
CREATED:20250118T165639Z
LAST-MODIFIED:20250123T225333Z
UID:2966-1745143200-1745164800@www.shirelrc.com
SUMMARY:Play Day – Mannington
DESCRIPTION:Mannington is a site of two halves\, one half has tight technical forest tracks with some deep swampy sections\, mud runs\, dug out climbs and gulleys\, and the other half is a large open arena which is great for all vehicles and abilities\, with water of varying depth so you can dip a toe or plough in bonnet-deep\, plus lots of wide open climbs and tracks and some twisty technical bits in between the trees. \nA great site for all vehicles from shiny to hardcore – our rules on which vehicles can come are here. \nYou can save time and book a ticket in advance via Eventbrite here\, or you can pay on the day as usual. \nMANNINGTON SITE LOCATION\nFor anyone who hasn’t been to Mannington before the nearest postcode is BH21 6SB \nThe site entrance is located on the main road at the crossroads with Horton Road and Burt’s Lane. Shire LRC signs will be located at this point and to guide you along the farm track – please close the gate after you\, and PLEASE drive carefully and considerately as there are pedestrians and horses using this track. \nThe Google Maps waypoint is 50.868091\, -1.912104\nYou can type the above co-ordinates into Google maps and it will take you directly to the site.
URL:https://www.shirelrc.com/event/play-day-mannington-5/
LOCATION:Mannington\, Horton Road\, Mannington\, United Kingdom
CATEGORIES:Play Day
ATTACH;FMTTYPE=image/jpeg:https://www.shirelrc.com/wp-content/uploads/2017/08/Mannington.jpg
END:VEVENT
END:VCALENDAR