BEGIN:VCALENDAR
VERSION:2.0
PRODID:-//The Shire Land Rover Club - ECPv6.15.20//NONSGML v1.0//EN
CALSCALE:GREGORIAN
METHOD:PUBLISH
X-ORIGINAL-URL:https://www.shirelrc.com
X-WR-CALDESC:Events for The Shire Land Rover Club
REFRESH-INTERVAL;VALUE=DURATION:PT1H
X-Robots-Tag:noindex
X-PUBLISHED-TTL:PT1H
BEGIN:VTIMEZONE
TZID:Europe/London
BEGIN:DAYLIGHT
TZOFFSETFROM:+0000
TZOFFSETTO:+0100
TZNAME:BST
DTSTART:20240331T010000
END:DAYLIGHT
BEGIN:STANDARD
TZOFFSETFROM:+0100
TZOFFSETTO:+0000
TZNAME:GMT
DTSTART:20241027T010000
END:STANDARD
BEGIN:DAYLIGHT
TZOFFSETFROM:+0000
TZOFFSETTO:+0100
TZNAME:BST
DTSTART:20250330T010000
END:DAYLIGHT
BEGIN:STANDARD
TZOFFSETFROM:+0100
TZOFFSETTO:+0000
TZNAME:GMT
DTSTART:20251026T010000
END:STANDARD
BEGIN:DAYLIGHT
TZOFFSETFROM:+0000
TZOFFSETTO:+0100
TZNAME:BST
DTSTART:20260329T010000
END:DAYLIGHT
BEGIN:STANDARD
TZOFFSETFROM:+0100
TZOFFSETTO:+0000
TZNAME:GMT
DTSTART:20261025T010000
END:STANDARD
END:VTIMEZONE
BEGIN:VEVENT
DTSTART;TZID=Europe/London:20250306T193000
DTEND;TZID=Europe/London:20250306T230000
DTSTAMP:20260422T002556
CREATED:20250118T165910Z
LAST-MODIFIED:20250118T165910Z
UID:2970-1741289400-1741302000@www.shirelrc.com
SUMMARY:March Club Social
DESCRIPTION:Pop on down and say hello! \nWe get together from around 7:30pm for an evening of general chat\, who’s broken what\, upcoming events and adventures etc. \nClub socials are free and open to everyone\, whether you’re already a member or just want to find out a bit more about the club. \nAt the King Rufus pub in Chandlers Ford\, we usually congregate in the function room or the alcove to the far right hand end of the bar – if you can’t find us just ask at the bar. \n 
URL:https://www.shirelrc.com/event/march-club-social-2025/
LOCATION:The King Rufus\, 135 Winchester Road\, Chandlers Ford\, Eastleigh\, SO53 2DU\, SO53 2DU\, United Kingdom
CATEGORIES:Social
ATTACH;FMTTYPE=image/png:https://www.shirelrc.com/wp-content/uploads/2018/01/Capture-e1563347934898.png
END:VEVENT
BEGIN:VEVENT
DTSTART;TZID=Europe/London:20250316T100000
DTEND;TZID=Europe/London:20250316T160000
DTSTAMP:20260422T002556
CREATED:20250118T165552Z
LAST-MODIFIED:20250301T221329Z
UID:2964-1742119200-1742140800@www.shirelrc.com
SUMMARY:Play Day - Broxhead Common
DESCRIPTION:This is a great site – a military training area with sandy soil\, some good mud sections & holes and a few twisty bits between the trees as well as some large open areas which are ideal for those wanting to avoid damage. And\, as we discovered last time out – some big holes ready to swallow the unwary\, so look before you leap! \nNote that due to the cost of hiring the site entry will be £35 for ShireLRC members and affiliated clubs\, and £40 for non-members. Book in advance via Eventbrite here. \nSite entry is off the A325 just North of Bordon\, What3Words location: track.glance.podcast.
URL:https://www.shirelrc.com/event/play-day-broxhead-common/
LOCATION:Broxhead Common\, Farnham Road\, Bordon\, Surrey\, GU35 0NH\, United Kingdom
CATEGORIES:Play Day
ATTACH;FMTTYPE=image/jpeg:https://www.shirelrc.com/wp-content/uploads/2023/12/377426_10150515405894663_792049662_8415835_1643602511_n.jpg
END:VEVENT
END:VCALENDAR