BEGIN:VCALENDAR
VERSION:2.0
PRODID:-//The Shire Land Rover Club - ECPv6.15.20//NONSGML v1.0//EN
CALSCALE:GREGORIAN
METHOD:PUBLISH
X-WR-CALNAME:The Shire Land Rover Club
X-ORIGINAL-URL:https://www.shirelrc.com
X-WR-CALDESC:Events for The Shire Land Rover Club
REFRESH-INTERVAL;VALUE=DURATION:PT1H
X-Robots-Tag:noindex
X-PUBLISHED-TTL:PT1H
BEGIN:VTIMEZONE
TZID:Europe/London
BEGIN:DAYLIGHT
TZOFFSETFROM:+0000
TZOFFSETTO:+0100
TZNAME:BST
DTSTART:20240331T010000
END:DAYLIGHT
BEGIN:STANDARD
TZOFFSETFROM:+0100
TZOFFSETTO:+0000
TZNAME:GMT
DTSTART:20241027T010000
END:STANDARD
BEGIN:DAYLIGHT
TZOFFSETFROM:+0000
TZOFFSETTO:+0100
TZNAME:BST
DTSTART:20250330T010000
END:DAYLIGHT
BEGIN:STANDARD
TZOFFSETFROM:+0100
TZOFFSETTO:+0000
TZNAME:GMT
DTSTART:20251026T010000
END:STANDARD
BEGIN:DAYLIGHT
TZOFFSETFROM:+0000
TZOFFSETTO:+0100
TZNAME:BST
DTSTART:20260329T010000
END:DAYLIGHT
BEGIN:STANDARD
TZOFFSETFROM:+0100
TZOFFSETTO:+0000
TZNAME:GMT
DTSTART:20261025T010000
END:STANDARD
END:VTIMEZONE
BEGIN:VEVENT
DTSTART;TZID=Europe/London:20250206T193000
DTEND;TZID=Europe/London:20250206T230000
DTSTAMP:20260422T015149
CREATED:20250118T165838Z
LAST-MODIFIED:20250118T165838Z
UID:2968-1738870200-1738882800@www.shirelrc.com
SUMMARY:February Club Social
DESCRIPTION:Pop on down and say hello! \nWe get together from around 7:30pm for an evening of general chat\, who’s broken what\, upcoming events and adventures etc. \nClub socials are free and open to everyone\, whether you’re already a member or just want to find out a bit more about the club. \nAt the King Rufus pub in Chandlers Ford\, we usually congregate in the function room or the alcove to the far right hand end of the bar – if you can’t find us just ask at the bar. \n 
URL:https://www.shirelrc.com/event/february-club-social-2025/
LOCATION:The King Rufus\, 135 Winchester Road\, Chandlers Ford\, Eastleigh\, SO53 2DU\, SO53 2DU\, United Kingdom
CATEGORIES:Social
ATTACH;FMTTYPE=image/png:https://www.shirelrc.com/wp-content/uploads/2018/01/Capture-e1563347934898.png
END:VEVENT
BEGIN:VEVENT
DTSTART;TZID=Europe/London:20250216T100000
DTEND;TZID=Europe/London:20250216T160000
DTSTAMP:20260422T015149
CREATED:20250118T165455Z
LAST-MODIFIED:20250118T174959Z
UID:2962-1739700000-1739721600@www.shirelrc.com
SUMMARY:Play Day - Aldermaston\, Harbour Hill
DESCRIPTION:This is an excellent site for all vehicles & abilities. \nA technical yet friendly site\, although it looks tight with lots of trees the gaps between them are wider than other sites and you can get most places on the site with a standard vehicle. \nSome deep mud and big bomb-holes for those feeling adventurous\, plus plenty of lumps\, bumps\, etc. for technical driving. \nYou can save time and book in advance through Eventbrite by clicking here.
URL:https://www.shirelrc.com/event/play-day-aldermaston-harbour-hill-7/
LOCATION:Harbour Hill – Aldermaston\, Harbour Hill\, Aldermarston\, Berkshire\, RG7 4PH\, United Kingdom
CATEGORIES:Play Day
ATTACH;FMTTYPE=image/jpeg:https://www.shirelrc.com/wp-content/uploads/2015/08/aldermarston1-e1438987632584.jpg
END:VEVENT
END:VCALENDAR