BEGIN:VCALENDAR
VERSION:2.0
PRODID:-//The Shire Land Rover Club - ECPv6.15.20//NONSGML v1.0//EN
CALSCALE:GREGORIAN
METHOD:PUBLISH
X-ORIGINAL-URL:https://www.shirelrc.com
X-WR-CALDESC:Events for The Shire Land Rover Club
REFRESH-INTERVAL;VALUE=DURATION:PT1H
X-Robots-Tag:noindex
X-PUBLISHED-TTL:PT1H
BEGIN:VTIMEZONE
TZID:Europe/London
BEGIN:DAYLIGHT
TZOFFSETFROM:+0000
TZOFFSETTO:+0100
TZNAME:BST
DTSTART:20240331T010000
END:DAYLIGHT
BEGIN:STANDARD
TZOFFSETFROM:+0100
TZOFFSETTO:+0000
TZNAME:GMT
DTSTART:20241027T010000
END:STANDARD
BEGIN:DAYLIGHT
TZOFFSETFROM:+0000
TZOFFSETTO:+0100
TZNAME:BST
DTSTART:20250330T010000
END:DAYLIGHT
BEGIN:STANDARD
TZOFFSETFROM:+0100
TZOFFSETTO:+0000
TZNAME:GMT
DTSTART:20251026T010000
END:STANDARD
BEGIN:DAYLIGHT
TZOFFSETFROM:+0000
TZOFFSETTO:+0100
TZNAME:BST
DTSTART:20260329T010000
END:DAYLIGHT
BEGIN:STANDARD
TZOFFSETFROM:+0100
TZOFFSETTO:+0000
TZNAME:GMT
DTSTART:20261025T010000
END:STANDARD
END:VTIMEZONE
BEGIN:VEVENT
DTSTART;TZID=Europe/London:20250101T100000
DTEND;TZID=Europe/London:20250101T160000
DTSTAMP:20260422T032818
CREATED:20240929T171032Z
LAST-MODIFIED:20240929T171032Z
UID:2910-1735725600-1735747200@www.shirelrc.com
SUMMARY:FREE Christmas Play Day - Mannington
DESCRIPTION:This event is for members only – you can check & renew your membership or join up via MemberMojo here: Join or renew – Manage your membership \nFor an added bit of fun we are running a competition for the best dressed truck with the best truck receiving a prize. \n\nOur way of saying THANK YOU and MERRY CHRISTMAS to all our lovely members\, we’re throwing a FREE play-day at Mannington.\n\n\n\n\nIt’s a fantastic site with a variety of terrain and is regarded as one of the best sites on the South Coast. It’s got something for all vehicles and abilities.\n\n\n\n\nMannington is a site of two halves\, one half has tight technical forest tracks with some deep swampy sections\, mud runs\, dug out climbs and gulleys\, and the other half is a large open arena which is great for all vehicles and abilities\, with water of varying depth so you can dip a toe or plough in bonnet-deep\, plus lots of wide open climbs and tracks and some twisty technical bits in between the trees.\n\nA great site for all vehicles from shiny to hardcore. Please see details here on allowed vehicles at our events. \nEntry is FREE for Shire LRC members\, please bring your membership card if if possible to speed up entry.\n \nThis event is for members only – you can check & renew your membership or join up via MemberMojo here: Join or renew – Manage your membership \nDon’t worry if your membership card doesn’t arrive in time – as long as you are a member on Membermojo before Jan 1st we will have your details. \nSITE LOCATION\nFor anyone who hasn’t been to Mannington before the nearest postcode is BH21 6SB \nThe site entrance is located on the main road at the crossroads with Horton Road and Burt’s Lane. Shire LRC signs will be located at this point and to guide you along the farm track – please close the gate after you\, and PLEASE drive carefully and considerately as there are pedestrians and horses using this track. \nThe Google Maps waypoint is 50.868091\, -1.912104\nYou can type the above co-odinates into Google maps and it will take you directly to the site.
URL:https://www.shirelrc.com/event/free-christmas-play-day-mannington-3/
LOCATION:Mannington\, Horton Road\, Mannington\, United Kingdom
CATEGORIES:Play Day
ATTACH;FMTTYPE=image/jpeg:https://www.shirelrc.com/wp-content/uploads/2015/10/dsc01389_16418997126_o-e1476046469138.jpg
END:VEVENT
BEGIN:VEVENT
DTSTART;TZID=Europe/London:20250109T193000
DTEND;TZID=Europe/London:20250109T230000
DTSTAMP:20260422T032818
CREATED:20250101T211228Z
LAST-MODIFIED:20250101T211228Z
UID:2957-1736451000-1736463600@www.shirelrc.com
SUMMARY:January Club Social **RESCHEDULED**
DESCRIPTION:NOTE THIS HAS BEEN RESCHEDULED TO THURSDAY THE 9TH of JAN – due to the pub having supply problems at short notice we have moved this social to the 9th.\n \nPop on down and say hello! \nWe get together from around 7:30pm for an evening of general chat\, who’s broken what\, upcoming events and adventures etc. \nClub socials are free and open to everyone\, whether you’re already a member or just want to find out a bit more about the club. \nAt the King Rufus pub in Chandlers Ford\, we usually congregate in the function room or the alcove to the far right hand end of the bar – if you can’t find us just ask at the bar. \n 
URL:https://www.shirelrc.com/event/january-club-social-2025/
LOCATION:The King Rufus\, 135 Winchester Road\, Chandlers Ford\, Eastleigh\, SO53 2DU\, SO53 2DU\, United Kingdom
CATEGORIES:Social
ATTACH;FMTTYPE=image/png:https://www.shirelrc.com/wp-content/uploads/2018/01/Capture-e1563347934898.png
END:VEVENT
END:VCALENDAR