BEGIN:VCALENDAR
VERSION:2.0
PRODID:-//The Shire Land Rover Club - ECPv6.15.20//NONSGML v1.0//EN
CALSCALE:GREGORIAN
METHOD:PUBLISH
X-ORIGINAL-URL:https://www.shirelrc.com
X-WR-CALDESC:Events for The Shire Land Rover Club
REFRESH-INTERVAL;VALUE=DURATION:PT1H
X-Robots-Tag:noindex
X-PUBLISHED-TTL:PT1H
BEGIN:VTIMEZONE
TZID:Europe/London
BEGIN:DAYLIGHT
TZOFFSETFROM:+0000
TZOFFSETTO:+0100
TZNAME:BST
DTSTART:20230326T010000
END:DAYLIGHT
BEGIN:STANDARD
TZOFFSETFROM:+0100
TZOFFSETTO:+0000
TZNAME:GMT
DTSTART:20231029T010000
END:STANDARD
BEGIN:DAYLIGHT
TZOFFSETFROM:+0000
TZOFFSETTO:+0100
TZNAME:BST
DTSTART:20240331T010000
END:DAYLIGHT
BEGIN:STANDARD
TZOFFSETFROM:+0100
TZOFFSETTO:+0000
TZNAME:GMT
DTSTART:20241027T010000
END:STANDARD
BEGIN:DAYLIGHT
TZOFFSETFROM:+0000
TZOFFSETTO:+0100
TZNAME:BST
DTSTART:20250330T010000
END:DAYLIGHT
BEGIN:STANDARD
TZOFFSETFROM:+0100
TZOFFSETTO:+0000
TZNAME:GMT
DTSTART:20251026T010000
END:STANDARD
END:VTIMEZONE
BEGIN:VEVENT
DTSTART;TZID=Europe/London:20241204T193000
DTEND;TZID=Europe/London:20241204T230000
DTSTAMP:20260422T051422
CREATED:20240929T162921Z
LAST-MODIFIED:20240929T170924Z
UID:2884-1733340600-1733353200@www.shirelrc.com
SUMMARY:December Club Social - WEDNESDAY!
DESCRIPTION:The pre-Christmas social is on WEDNESDAY 4th December so make sure you get the right day! \nIn addition to the usual chat we are intending to give out some awards for club members – get your nominations in! \n  \nWe get together from around 7:30pm for an evening of general chat\, who’s broken what\, upcoming events and adventures etc. \nClub socials are free and open to everyone\, whether you’re already a member or just want to find out a bit more about the club. \nAt the King Rufus pub in Chandlers Ford\, we usually congregate in the function room or the alcove to the far right hand end of the bar – if you can’t find us just ask at the bar. \n 
URL:https://www.shirelrc.com/event/december-club-social-24/
LOCATION:The King Rufus\, 135 Winchester Road\, Chandlers Ford\, Eastleigh\, SO53 2DU\, SO53 2DU\, United Kingdom
CATEGORIES:Social
ATTACH;FMTTYPE=image/png:https://www.shirelrc.com/wp-content/uploads/2018/01/Capture-e1563347934898.png
END:VEVENT
BEGIN:VEVENT
DTSTART;TZID=Europe/London:20241220T180000
DTEND;TZID=Europe/London:20241220T210000
DTSTAMP:20260422T051422
CREATED:20241124T142807Z
LAST-MODIFIED:20241124T142807Z
UID:2937-1734717600-1734728400@www.shirelrc.com
SUMMARY:Tea on the Tailgate - Club Meetup
DESCRIPTION:This is a social meetup organised by Tea On The Tailgate on Facebook\, a group of us will be popping along to see what it’s all about and most importantly have a cup of tea on the tailgate of a Land Rover or two!\n\n\nThere’s no ticketing or anything so just turn up – if you want to join with the Shire group going along please get in touch by the any of the usual means to coordinate with the others who are going.\n\n\nBeing December the theme is “Lights on the Landy” so take that and do with it what you will!\n\n\nTo quote the organiser:\n\n\nI had the idea to hold some socials for local enthusiasts\, So i created the Instagram page @tea_on_the_tailgate\, this rapidly grew and it became obvious people all over were following and not just local.\n\nI got chatting to a great guy wanting to hold events in Hampshire so the idea evolved into regional groups under the umbrella of tea on the tailgate.\nSo on Instagram we now have @tea_on_the_tailgate_dorset\, @tea_on_the_tailgate_hampshire and hopefully soon tea_on_the_tailgate_shropshire.\nEach sub group is run by local enthusiastic individuals running them pretty much how they see fit. The philosophy is\n\nAny Land Rover welcome Freelanders\, Series\, Discos old and new even new Defenders or Range Rovers. – if yours is off the road come along anyway. I should say that abuse isn’t tolerated and event organisers would be in their right to ask someone to leave. There’s no judgement here on what people do with their vehicles. The reason we love Land Rovers is the versatility\, endless modification options and reliability \nThere’s no charge for attending events. The aim is not to charge but if there are car parking fees that’s a cost the individual pays.\nPeople bring their own refreshments however I’m keen to support charities where possible and organisers may chose to provide something for a small charitable donation.\nI hope organisers will Choose to produce stickers of their logo. I’m hoping this will be something for people to collect from different meets they attend. There may be charges to cover costs on this.\n\nIf you’ve managed to read this far please join the face book group Tea on the tailgate and get chatting\, share these pages across all social media\, tell your friends but most importantly come along!
URL:https://www.shirelrc.com/event/tea-on-the-tailgate-club-meetup/
LOCATION:Marine Parade\, Lee On Solnt\, 5 Marine Parade E\, Lee-on-the-Solent\, PO13 9LB\, United Kingdom
CATEGORIES:Social
ATTACH;FMTTYPE=image/jpeg:https://www.shirelrc.com/wp-content/uploads/2024/09/tea_tailgate.jpeg
END:VEVENT
BEGIN:VEVENT
DTSTART;TZID=Europe/London:20241222T200000
DTEND;TZID=Europe/London:20241223T010000
DTSTAMP:20260422T051422
CREATED:20241124T143335Z
LAST-MODIFIED:20241124T143335Z
UID:2940-1734897600-1734915600@www.shirelrc.com
SUMMARY:Longest Night Green Laning
DESCRIPTION:To celebrate the longest night we’re heading out to drive a few lanes in the dark – please get in touch with us to join the green laning Whatsapp group and get your name on the list. \nThis will be around the Devil’s Punchbowl area.
URL:https://www.shirelrc.com/event/longest-night-laning/
LOCATION:Devil’s Punchbowl\, United Kingdom
CATEGORIES:Greenlaning
ATTACH;FMTTYPE=image/png:https://www.shirelrc.com/wp-content/uploads/2019/07/1.png
END:VEVENT
END:VCALENDAR