BEGIN:VCALENDAR
VERSION:2.0
PRODID:-//The Shire Land Rover Club - ECPv6.15.20//NONSGML v1.0//EN
CALSCALE:GREGORIAN
METHOD:PUBLISH
X-ORIGINAL-URL:https://www.shirelrc.com
X-WR-CALDESC:Events for The Shire Land Rover Club
REFRESH-INTERVAL;VALUE=DURATION:PT1H
X-Robots-Tag:noindex
X-PUBLISHED-TTL:PT1H
BEGIN:VTIMEZONE
TZID:Europe/London
BEGIN:DAYLIGHT
TZOFFSETFROM:+0000
TZOFFSETTO:+0100
TZNAME:BST
DTSTART:20230326T010000
END:DAYLIGHT
BEGIN:STANDARD
TZOFFSETFROM:+0100
TZOFFSETTO:+0000
TZNAME:GMT
DTSTART:20231029T010000
END:STANDARD
BEGIN:DAYLIGHT
TZOFFSETFROM:+0000
TZOFFSETTO:+0100
TZNAME:BST
DTSTART:20240331T010000
END:DAYLIGHT
BEGIN:STANDARD
TZOFFSETFROM:+0100
TZOFFSETTO:+0000
TZNAME:GMT
DTSTART:20241027T010000
END:STANDARD
BEGIN:DAYLIGHT
TZOFFSETFROM:+0000
TZOFFSETTO:+0100
TZNAME:BST
DTSTART:20250330T010000
END:DAYLIGHT
BEGIN:STANDARD
TZOFFSETFROM:+0100
TZOFFSETTO:+0000
TZNAME:GMT
DTSTART:20251026T010000
END:STANDARD
END:VTIMEZONE
BEGIN:VEVENT
DTSTART;TZID=Europe/London:20241103T100000
DTEND;TZID=Europe/London:20241103T140000
DTSTAMP:20260422T064103
CREATED:20240929T170813Z
LAST-MODIFIED:20240929T171937Z
UID:2905-1730628000-1730642400@www.shirelrc.com
SUMMARY:Tea on the Tailgate - Club Meetup
DESCRIPTION:This is a social meetup organised by Tea On The Tailgate on Facebook\, a group of us will be popping along to see what it’s all about and most importantly have a cup of tea on the tailgate of a Land Rover or two!\n\n\nThere’s no ticketing or anything so just turn up – if you want to join with the Shire group going along please get in touch by the any of the usual means to coordinate with the others who are going.\n\n\nWe are also planning to head out on to Salisbury Plain in the afternoon for some green laning so please click here for details if you’re interested in joining.\n\n\nTo quote the organiser:\n\n\nI had the idea to hold some socials for local enthusiasts\, So i created the Instagram page @tea_on_the_tailgate\, this rapidly grew and it became obvious people all over were following and not just local.\n\nI got chatting to a great guy wanting to hold events in Hampshire so the idea evolved into regional groups under the umbrella of tea on the tailgate.\nSo on Instagram we now have @tea_on_the_tailgate_dorset\, @tea_on_the_tailgate_hampshire and hopefully soon tea_on_the_tailgate_shropshire.\nEach sub group is run by local enthusiastic individuals running them pretty much how they see fit. The philosophy is\n\nAny Land Rover welcome freelanders\, series\, discos old and new even new defenders or range rovers. – if yours is off the road come along anyway. I should say that abuse isn’t tolerated and event organisers would be in their right to ask someone to leave. There’s no judgement here on what people do with their vehicles. The reason we love land rovers is the versatility\, endless modification options and reliability \nThere’s no charge for attending events. The aim is not to charge but if there are car parking fees that’s a cost the individual pays.\nPeople bring their own refreshments however I’m keen to support charities where possible and organisers may chose to provide something for a small charitable donation.\nI hope organisers will Choose to produce stickers of their logo. I’m hoping this will be something for people to collect from different meets they attend. There may be charges to cover costs on this.\n\nIf you’ve managed to read this far please join the face book group Tea on the tailgate and get chatting\, share these pages across all social media\, tell your friends but most importantly come along!
URL:https://www.shirelrc.com/event/tea-on-the-tailgate/
LOCATION:Janesmoor Pond car park\, Lyndhurst\, New Forest\, Hampshire\, SO43 7HH\, United Kingdom
CATEGORIES:Social
ATTACH;FMTTYPE=image/jpeg:https://www.shirelrc.com/wp-content/uploads/2024/09/tea_tailgate.jpeg
END:VEVENT
BEGIN:VEVENT
DTSTART;TZID=Europe/London:20241103T120000
DTEND;TZID=Europe/London:20241103T190000
DTSTAMP:20260422T064103
CREATED:20240929T171735Z
LAST-MODIFIED:20240929T172824Z
UID:2912-1730635200-1730660400@www.shirelrc.com
SUMMARY:Green Laning - Salisbury Plain
DESCRIPTION:We are planning to meet up in the morning at the informal “Tea On The Tailgate” social at Janesmoor Pond in Lyndhurst\, then move on for an afternoon on Salisbury Plain. \nPlaces / group sizes will be limited so please contact us to get your name on the list. \nIf you’d like to join the SLRC Green Lane Whatsapp group for more adventures please get in touch and we’ll add you.
URL:https://www.shirelrc.com/event/salisbury-plain-laning/
LOCATION:Surrey
CATEGORIES:Greenlaning
ATTACH;FMTTYPE=image/jpeg:https://www.shirelrc.com/wp-content/uploads/2024/06/IMG-20240629-WA0049.jpg
END:VEVENT
BEGIN:VEVENT
DTSTART;TZID=Europe/London:20241107T193000
DTEND;TZID=Europe/London:20241107T230000
DTSTAMP:20260422T064103
CREATED:20231030T195608Z
LAST-MODIFIED:20231030T195608Z
UID:2675-1731007800-1731020400@www.shirelrc.com
SUMMARY:November Club Social
DESCRIPTION:Pop on down and say hello! \nWe get together from around 7:30pm for an evening of general chat\, who’s broken what\, upcoming events and adventures etc. \nClub socials are free and open to everyone\, whether you’re already a member or just want to find out a bit more about the club. \nAt the King Rufus pub in Chandlers Ford\, we usually congregate in the function room or the alcove to the far right hand end of the bar – if you can’t find us just ask at the bar. \n 
URL:https://www.shirelrc.com/event/november-club-social-2024/
LOCATION:The King Rufus\, 135 Winchester Road\, Chandlers Ford\, Eastleigh\, SO53 2DU\, SO53 2DU\, United Kingdom
CATEGORIES:Social
ATTACH;FMTTYPE=image/png:https://www.shirelrc.com/wp-content/uploads/2018/01/Capture-e1563347934898.png
END:VEVENT
BEGIN:VEVENT
DTSTART;TZID=Europe/London:20241117T100000
DTEND;TZID=Europe/London:20241117T160000
DTSTAMP:20260422T064103
CREATED:20240602T200053Z
LAST-MODIFIED:20241028T185149Z
UID:2814-1731837600-1731859200@www.shirelrc.com
SUMMARY:Play Day - Broxhead Common
DESCRIPTION:This is a great site – a military training area with sandy soil\, some good mud sections & holes and a few twisty bits between the trees as well as some large open areas which are ideal for those wanting to avoid damage. And\, as we discovered last time out – some big holes ready to swallow the unwary\, so look before you leap! \nNote that due to the cost of hiring the site entry will be £35 for ShireLRC members and affiliated clubs\, and £40 for non-members. Book in advance via Eventbrite here. \nSite entry is off the A325 just North of Bordon\, What3Words location: track.glance.podcast.
URL:https://www.shirelrc.com/event/play-day-broxhead-common-november/
LOCATION:Broxhead Common\, Farnham Road\, Bordon\, Surrey\, GU35 0NH\, United Kingdom
CATEGORIES:Play Day
ATTACH;FMTTYPE=image/jpeg:https://www.shirelrc.com/wp-content/uploads/2023/12/377426_10150515405894663_792049662_8415835_1643602511_n.jpg
END:VEVENT
END:VCALENDAR