BEGIN:VCALENDAR
VERSION:2.0
PRODID:-//The Shire Land Rover Club - ECPv6.15.20//NONSGML v1.0//EN
CALSCALE:GREGORIAN
METHOD:PUBLISH
X-WR-CALNAME:The Shire Land Rover Club
X-ORIGINAL-URL:https://www.shirelrc.com
X-WR-CALDESC:Events for The Shire Land Rover Club
REFRESH-INTERVAL;VALUE=DURATION:PT1H
X-Robots-Tag:noindex
X-PUBLISHED-TTL:PT1H
BEGIN:VTIMEZONE
TZID:Europe/London
BEGIN:DAYLIGHT
TZOFFSETFROM:+0000
TZOFFSETTO:+0100
TZNAME:BST
DTSTART:20230326T010000
END:DAYLIGHT
BEGIN:STANDARD
TZOFFSETFROM:+0100
TZOFFSETTO:+0000
TZNAME:GMT
DTSTART:20231029T010000
END:STANDARD
BEGIN:DAYLIGHT
TZOFFSETFROM:+0000
TZOFFSETTO:+0100
TZNAME:BST
DTSTART:20240331T010000
END:DAYLIGHT
BEGIN:STANDARD
TZOFFSETFROM:+0100
TZOFFSETTO:+0000
TZNAME:GMT
DTSTART:20241027T010000
END:STANDARD
BEGIN:DAYLIGHT
TZOFFSETFROM:+0000
TZOFFSETTO:+0100
TZNAME:BST
DTSTART:20250330T010000
END:DAYLIGHT
BEGIN:STANDARD
TZOFFSETFROM:+0100
TZOFFSETTO:+0000
TZNAME:GMT
DTSTART:20251026T010000
END:STANDARD
END:VTIMEZONE
BEGIN:VEVENT
DTSTART;TZID=Europe/London:20241006T093000
DTEND;TZID=Europe/London:20241006T160000
DTSTAMP:20260422T024220
CREATED:20240929T163634Z
LAST-MODIFIED:20240929T163742Z
UID:2891-1728207000-1728230400@www.shirelrc.com
SUMMARY:Newbury 4x4 and Vintage Spares Day
DESCRIPTION:We will have a club stand at this event and will be attending as a group – if you show your membership card you can get a free cup of tea or coffee from our stand. We’ll also be offering parts drop-off & collection for members who’d bought something big & heavy too early in the day and don’t want to carry it round and maybe even the use of a trolley for heavy items!\n \nThis is an independent event organised by Land Rover Monthly – details are below for information\, please check details & book your tickets at www.landrovermonthly.co.uk. \nShire Members Selling: If you’d like to join our group next to the club stand (and tea urn!) contact us in advance\, we usually meet at Sutton Scotney services 1st thing before heading into the site as a group so we can keep an eye on each other’s stands etc. \nShire Members Buying: Buyers are let into the site a bit later\, there’s usually a group who also congregate at a services on the way up before heading in to site. This can give you a friendly face to wander round the event with and people can help spot rare treasures that others are looking for! Again\, contact us or keep an eye on our Facebook group to see who’s going and tag along. \n\nThis is an independent event organised by LRM – details are below for information\, please check details & book your tickets at www.landrovermonthly.co.uk. \nThere’s everything you’d expect from a show of this size and calibre\, including a Land Rover\, 4×4 and vintage section with new\, used\, old and obsolete parts. Finds include classic parts\, spares\, accessories and motoring antiques – you’ll even find tools\, ex-army surplus and equipment\, yard and shed clear-outs\, stationary engines\, autojumble\, tractor parts\, barn finds\, agri-jumble\, camping gear and even vehicle sales. \nThere really is something for everyone at Newbury! \n 
URL:https://www.shirelrc.com/event/newbury-4x4-and-vintage-spares-day-5/
LOCATION:Newbury Showground\, Chieveley\, RG18 9QZ\, United Kingdom
CATEGORIES:Shows,Social
ATTACH;FMTTYPE=image/jpeg:https://www.shirelrc.com/wp-content/uploads/2024/09/LRMEventpagesmainimage_1232x6573.jpg
END:VEVENT
BEGIN:VEVENT
DTSTART;TZID=Europe/London:20241003T193000
DTEND;TZID=Europe/London:20241003T230000
DTSTAMP:20260422T024220
CREATED:20231030T195534Z
LAST-MODIFIED:20231030T195534Z
UID:2673-1727983800-1727996400@www.shirelrc.com
SUMMARY:October Club Social
DESCRIPTION:Pop on down and say hello! \nWe get together from around 7:30pm for an evening of general chat\, who’s broken what\, upcoming events and adventures etc. \nClub socials are free and open to everyone\, whether you’re already a member or just want to find out a bit more about the club. \nAt the King Rufus pub in Chandlers Ford\, we usually congregate in the function room or the alcove to the far right hand end of the bar – if you can’t find us just ask at the bar. \n 
URL:https://www.shirelrc.com/event/october-club-social-2024/
LOCATION:The King Rufus\, 135 Winchester Road\, Chandlers Ford\, Eastleigh\, SO53 2DU\, SO53 2DU\, United Kingdom
CATEGORIES:Social
ATTACH;FMTTYPE=image/png:https://www.shirelrc.com/wp-content/uploads/2018/01/Capture-e1563347934898.png
END:VEVENT
BEGIN:VEVENT
DTSTART;TZID=Europe/London:20240925T193000
DTEND;TZID=Europe/London:20240925T220000
DTSTAMP:20260422T024220
CREATED:20240901T134311Z
LAST-MODIFIED:20240901T134311Z
UID:2878-1727292600-1727301600@www.shirelrc.com
SUMMARY:Portsdown Hill Social
DESCRIPTION:A popular social gathering on Portsdown Hill\, just off the A3\, at the immensely scenic parking spot and burger van\, with great views of Portsmouth and indeed half of the south coast on a clear day. \nEveryone’s welcome\, come along & say hello – whether you’re a current club member or just want to find out what we’re about. \nMick’s Monster Burger is located just off the A3 on Portsdown Hill Road (B2177) overlooking Portsmouth. \n 
URL:https://www.shirelrc.com/event/portsdown-hill-social-10/
LOCATION:Mick’s Monster Burger\, Portsdown Hill\, Portsdown Hill Road (B2177) overlooking Portsmouth\, United Kingdom
CATEGORIES:Social
ATTACH;FMTTYPE=image/jpeg:https://www.shirelrc.com/wp-content/uploads/2019/08/IMG_20190725_194801-e1565683503685.jpg
END:VEVENT
BEGIN:VEVENT
DTSTART;TZID=Europe/London:20240914T080000
DTEND;TZID=Europe/London:20240915T170000
DTSTAMP:20260422T024220
CREATED:20240303T122245Z
LAST-MODIFIED:20240901T141103Z
UID:2785-1726300800-1726419600@www.shirelrc.com
SUMMARY:Adventure Overland Show 2024
DESCRIPTION:The club are attending the Adventure Overland show at Stratford race course\, Warwickshire – if you’d like to join us for the weekend\, get your vehicle on the club stand and enjoy a few beers around the campfire you are very welcome. \nYou’ll need to book your own camping pitch here:  adventure-overland-show.com/tickets and then contact us and let us know that you’d like us to reserve a spot on the club stand for you.
URL:https://www.shirelrc.com/event/adventure-overland-show/
LOCATION:Stratford-upon-Avon Racecourse\, Luddington Road\, Stratford-upon-Avon\, Warwickshire\, CV37 9SE\, United Kingdom
CATEGORIES:Camping,Social
ATTACH;FMTTYPE=image/jpeg:https://www.shirelrc.com/wp-content/uploads/2024/03/agila.jpg
ORGANIZER;CN="4x4 Trading (Tom McGuigan)":MAILTO:4x4trading@talk21.com
END:VEVENT
BEGIN:VEVENT
DTSTART;TZID=Europe/London:20240908T100000
DTEND;TZID=Europe/London:20240908T160000
DTSTAMP:20260422T024220
CREATED:20240630T142110Z
LAST-MODIFIED:20240630T142110Z
UID:2841-1725789600-1725811200@www.shirelrc.com
SUMMARY:Play Day – Mannington
DESCRIPTION:Mannington is a site of two halves\, one half has tight technical forest tracks with some deep swampy sections\, mud runs\, dug out climbs and gulleys\, and the other half is a large open arena which is great for all vehicles and abilities\, with water of varying depth so you can dip a toe or plough in bonnet-deep\, plus lots of wide open climbs and tracks and some twisty technical bits in between the trees. \nA great site for all vehicles from shiny to hardcore – our rules on which vehicles can come are here. \nYou can save time and book a ticket in advance via Eventbrite here\, or you can pay on the day as usual. \nMANNINGTON SITE LOCATION\nFor anyone who hasn’t been to Mannington before the nearest postcode is BH21 6SB \nThe site entrance is located on the main road at the crossroads with Horton Road and Burt’s Lane. Shire LRC signs will be located at this point and to guide you along the farm track – please close the gate after you\, and PLEASE drive carefully and considerately as there are pedestrians and horses using this track. \nThe Google Maps waypoint is 50.868091\, -1.912104\nYou can type the above co-ordinates into Google maps and it will take you directly to the site.
URL:https://www.shirelrc.com/event/play-day-mannington-4/
LOCATION:Mannington\, Horton Road\, Mannington\, United Kingdom
CATEGORIES:Play Day
ATTACH;FMTTYPE=image/jpeg:https://www.shirelrc.com/wp-content/uploads/2017/08/Mannington.jpg
END:VEVENT
BEGIN:VEVENT
DTSTART;TZID=Europe/London:20240905T193000
DTEND;TZID=Europe/London:20240905T230000
DTSTAMP:20260422T024220
CREATED:20231030T195503Z
LAST-MODIFIED:20231030T195503Z
UID:2671-1725564600-1725577200@www.shirelrc.com
SUMMARY:September Club Social
DESCRIPTION:Pop on down and say hello! \nWe get together from around 7:30pm for an evening of general chat\, who’s broken what\, upcoming events and adventures etc. \nClub socials are free and open to everyone\, whether you’re already a member or just want to find out a bit more about the club. \nAt the King Rufus pub in Chandlers Ford\, we usually congregate in the function room or the alcove to the far right hand end of the bar – if you can’t find us just ask at the bar. \n 
URL:https://www.shirelrc.com/event/september-club-social-2024/
LOCATION:The King Rufus\, 135 Winchester Road\, Chandlers Ford\, Eastleigh\, SO53 2DU\, SO53 2DU\, United Kingdom
CATEGORIES:Social
ATTACH;FMTTYPE=image/png:https://www.shirelrc.com/wp-content/uploads/2018/01/Capture-e1563347934898.png
END:VEVENT
BEGIN:VEVENT
DTSTART;VALUE=DATE:20240823
DTEND;VALUE=DATE:20240826
DTSTAMP:20260422T024220
CREATED:20240728T145943Z
LAST-MODIFIED:20240728T150500Z
UID:2868-1724371200-1724630399@www.shirelrc.com
SUMMARY:Silverstone Classic - Join the ShireLRC Stand!
DESCRIPTION:Show off your Land Rover at Silverstone!\nWe’re really rather excited about this – the Shire Land Rover Club have got a stand at Silverstone Classic 2024 – three days of classic cars from every era\, racing on-track and on show\, full pit lane access all round\, plus live music in the evenings\, a FREE fun-fair for the kids\, air displays\, and loads of other stuff. \nAs an invited car club we get a much reduced rate AND you get to park your Land Rover on the club stand in amongst the Ferraris and Porsches and whatnot. \n \nThe package price is for TWO PEOPLE in ONE VEHICLE and is a big discount off the regular ticket price. Members MUST be on-site by 10am and cannot leave site until 5pm\, there are usually queues to get in so PLEASE allow an extra half an hour in the morning! \nThis is open strictly to Shire LRC members only.\n \nUse the following car club codes when booking: \n\nTax Exempt / pre-1984 classics: 037CCDP24\nEveryone else: 038CCDP24\n\nThe Shire LRC group are camping in the official camping at the Silverstone Golf Club. If you’re hoping to join us please get in touch so we can arrange to meet up. \n 
URL:https://www.shirelrc.com/event/silverstone-festival-2024/
LOCATION:Silverstone Race Circuit\, Towcester\, Northampton\, NN12 8TN\, United Kingdom
CATEGORIES:Camping,Shows
ATTACH;FMTTYPE=image/jpeg:https://www.shirelrc.com/wp-content/uploads/2022/01/ssc.jpeg
END:VEVENT
BEGIN:VEVENT
DTSTART;TZID=Europe/London:20240814T193000
DTEND;TZID=Europe/London:20240814T220000
DTSTAMP:20260422T024220
CREATED:20240728T154550Z
LAST-MODIFIED:20240728T154550Z
UID:2871-1723663800-1723672800@www.shirelrc.com
SUMMARY:Portsdown Hill Social
DESCRIPTION:A popular social gathering on Portsdown Hill\, just off the A3\, at the immensely scenic parking spot and burger van\, with great views of Portsmouth and indeed half of the south coast on a clear day. \nEveryone’s welcome\, come along & say hello – whether you’re a current club member or just want to find out what we’re about. \nMick’s Monster Burger is located just off the A3 on Portsdown Hill Road (B2177) overlooking Portsmouth. \n 
URL:https://www.shirelrc.com/event/portsdown-hill-social-9/
LOCATION:Mick’s Monster Burger\, Portsdown Hill\, Portsdown Hill Road (B2177) overlooking Portsmouth\, United Kingdom
CATEGORIES:Social
ATTACH;FMTTYPE=image/jpeg:https://www.shirelrc.com/wp-content/uploads/2019/08/IMG_20190725_194801-e1565683503685.jpg
END:VEVENT
BEGIN:VEVENT
DTSTART;TZID=Europe/London:20240804T110000
DTEND;TZID=Europe/London:20240804T160000
DTSTAMP:20260422T024220
CREATED:20240630T141958Z
LAST-MODIFIED:20240630T152139Z
UID:2839-1722769200-1722787200@www.shirelrc.com
SUMMARY:Club BBQ Social - QE2 Country Park
DESCRIPTION:We provide the fire\, you bring some food to throw on it! \nWe’re having a free family BBQ social in the beautiful Queen Elizabeth Country Park\, all are welcome to come along & socialise. \nWe will be providing the BBQ\, but to keep things simple we ask that you bring your own food to cook on it. \nWe are booked in the “Juniper” BBQ area\, there’s parking right by it and a few bench seats\, although bringing your own chairs would probably be a good idea too. \nThis is a 100% FREE event but it would be appreciated if you can “book in” on Eventbrite so we know roughly how many are coming – please click here to book a free ticket.
URL:https://www.shirelrc.com/event/club-bbq-social-qe2-country-park-2/
LOCATION:Queen Elizabeth Country Park\, \, Gravel Hill\, Horndean\, Hampshire\, PO8 0QE\, United Kingdom
CATEGORIES:Social
ATTACH;FMTTYPE=image/jpeg:https://www.shirelrc.com/wp-content/uploads/2023/05/01.10.2006-092.jpg
END:VEVENT
BEGIN:VEVENT
DTSTART;TZID=Europe/London:20240804T080000
DTEND;TZID=Europe/London:20240810T170000
DTSTAMP:20260422T024220
CREATED:20240630T142625Z
LAST-MODIFIED:20240630T142625Z
UID:2845-1722758400-1723309200@www.shirelrc.com
SUMMARY:SADLRC Wales green lane trip
DESCRIPTION:As an affiliated club\, SADLRC have invited our members to join them for a week away in Wales green laning and camping. \nSee SADLRC’s website for details.
URL:https://www.shirelrc.com/event/sadlrc-wales-green-lane-trip/
CATEGORIES:Camping,Greenlaning
END:VEVENT
BEGIN:VEVENT
DTSTART;TZID=Europe/London:20240801T193000
DTEND;TZID=Europe/London:20240801T230000
DTSTAMP:20260422T024220
CREATED:20231030T195208Z
LAST-MODIFIED:20231030T195208Z
UID:2669-1722540600-1722553200@www.shirelrc.com
SUMMARY:August Club Social
DESCRIPTION:Pop on down and say hello! \nWe get together from around 7:30pm for an evening of general chat\, who’s broken what\, upcoming events and adventures etc. \nClub socials are free and open to everyone\, whether you’re already a member or just want to find out a bit more about the club. \nAt the King Rufus pub in Chandlers Ford\, we usually congregate in the function room or the alcove to the far right hand end of the bar – if you can’t find us just ask at the bar. \n 
URL:https://www.shirelrc.com/event/august-club-social-2024/
LOCATION:The King Rufus\, 135 Winchester Road\, Chandlers Ford\, Eastleigh\, SO53 2DU\, SO53 2DU\, United Kingdom
CATEGORIES:Social
ATTACH;FMTTYPE=image/png:https://www.shirelrc.com/wp-content/uploads/2018/01/Capture-e1563347934898.png
END:VEVENT
BEGIN:VEVENT
DTSTART;TZID=Europe/London:20240721T100000
DTEND;TZID=Europe/London:20240721T140000
DTSTAMP:20260422T024220
CREATED:20240303T115742Z
LAST-MODIFIED:20240303T120951Z
UID:2776-1721556000-1721570400@www.shirelrc.com
SUMMARY:Dunsfold Land Rover Collection - Private Tour
DESCRIPTION:You may not be aware but Dunsfold Collection is home to the largest Land Rover collection in the world – with a huge variety of rare Land Rovers including all manner of prototypes and specialist one-offs. \nWe’ve arranged a private tour of the museum\, and also optional camping on Saturday night at the nearby Springok site for those who want to join us. You can book tickets online here.
URL:https://www.shirelrc.com/event/dunsfold-land-rover-collection-private-tour/
LOCATION:The Dunsfold Collection\, The Dunsfold Collection\, Alfold Road\, Dunsfold\, Surrey\, GU8 4NP\, United Kingdom
CATEGORIES:Camping,Social
ATTACH;FMTTYPE=image/jpeg:https://www.shirelrc.com/wp-content/uploads/2023/07/2.jpg
END:VEVENT
BEGIN:VEVENT
DTSTART;TZID=Europe/London:20240716T193000
DTEND;TZID=Europe/London:20240716T220000
DTSTAMP:20260422T024220
CREATED:20240630T141528Z
LAST-MODIFIED:20240630T144914Z
UID:2837-1721158200-1721167200@www.shirelrc.com
SUMMARY:Portsdown Hill Social
DESCRIPTION:A popular social gathering on Portsdown Hill\, just off the A3\, at the immensely scenic parking spot and burger van\, with great views of Portsmouth and indeed half of the south coast on a clear day. \nEveryone’s welcome\, come along & say hello – whether you’re a current club member or just want to find out what we’re about. \nMick’s Monster Burger is located just off the A3 on Portsdown Hill Road (B2177) overlooking Portsmouth. \n 
URL:https://www.shirelrc.com/event/portsdown-hill-social-8/
LOCATION:Mick’s Monster Burger\, Portsdown Hill\, Portsdown Hill Road (B2177) overlooking Portsmouth\, United Kingdom
CATEGORIES:Social
ATTACH;FMTTYPE=image/jpeg:https://www.shirelrc.com/wp-content/uploads/2019/08/IMG_20190725_194801-e1565683503685.jpg
END:VEVENT
BEGIN:VEVENT
DTSTART;TZID=Europe/London:20240713T100000
DTEND;TZID=Europe/London:20240714T170000
DTSTAMP:20260422T024220
CREATED:20240630T141416Z
LAST-MODIFIED:20240630T141416Z
UID:2831-1720864800-1720976400@www.shirelrc.com
SUMMARY:Compton Abbas Land Rover Weekend
DESCRIPTION:A  whole weekend of Land Rovers and aircraft\, displayed against the best of Dorset’s backdrops. Serving hearty local fare and refreshing Gritchie brews throughout the day\, bring the whole family and share in the passion for noise and power. \nThe perfect event to pencil in for a summer’s treat. \nThere is no car parking charge or booking required to come up and view this event. \nClick here for the event website – join the Shire Whatsapp chat group or Facebook group and see if we can get a convoy going!
URL:https://www.shirelrc.com/event/compton-abbas-land-rover-weekend/
LOCATION:Compton Abbas Airfield\, Ashmore\, Nr. Salisbury\, Wiltshire\, SP5 5AP\, United Kingdom
CATEGORIES:Shows
ATTACH;FMTTYPE=image/jpeg:https://www.shirelrc.com/wp-content/uploads/2024/06/Unknown-2-2000x1125-1.jpeg
ORGANIZER;CN="Compton Abbas Airfield":MAILTO:info@comptonairfield.com
END:VEVENT
BEGIN:VEVENT
DTSTART;TZID=Europe/London:20240707T100000
DTEND;TZID=Europe/London:20240707T180000
DTSTAMP:20260422T024220
CREATED:20240630T140631Z
LAST-MODIFIED:20240630T140631Z
UID:2829-1720346400-1720375200@www.shirelrc.com
SUMMARY:Simply Land Rover Show - Beaulieu
DESCRIPTION:We have a club stand at this show\, come and join us – simply book your tickets as normal and note on your booking that you’re with Shire Land Rover club and we’ll have a space for you and your vehicle.
URL:https://www.shirelrc.com/event/simply-land-rover-show-beaulieu-2/
LOCATION:Beaulieu National Motor Museum\, Beaulieu\, Hampshire\, SO42 7ZN\, United Kingdom
CATEGORIES:Shows
ATTACH;FMTTYPE=image/jpeg:https://www.shirelrc.com/wp-content/uploads/2017/07/IMG_7962.jpg
END:VEVENT
BEGIN:VEVENT
DTSTART;TZID=Europe/London:20240704T193000
DTEND;TZID=Europe/London:20240704T230000
DTSTAMP:20260422T024220
CREATED:20231030T193641Z
LAST-MODIFIED:20231030T193641Z
UID:2667-1720121400-1720134000@www.shirelrc.com
SUMMARY:July Club Social
DESCRIPTION:Pop on down and say hello! \nWe get together from around 7:30pm for an evening of general chat\, who’s broken what\, upcoming events and adventures etc. \nClub socials are free and open to everyone\, whether you’re already a member or just want to find out a bit more about the club. \nAt the King Rufus pub in Chandlers Ford\, we usually congregate in the function room or the alcove to the far right hand end of the bar – if you can’t find us just ask at the bar. \n 
URL:https://www.shirelrc.com/event/july-club-social-2024/
LOCATION:The King Rufus\, 135 Winchester Road\, Chandlers Ford\, Eastleigh\, SO53 2DU\, SO53 2DU\, United Kingdom
CATEGORIES:Social
ATTACH;FMTTYPE=image/png:https://www.shirelrc.com/wp-content/uploads/2018/01/Capture-e1563347934898.png
END:VEVENT
BEGIN:VEVENT
DTSTART;TZID=Europe/London:20240622T080000
DTEND;TZID=Europe/London:20240623T180000
DTSTAMP:20260422T024220
CREATED:20240303T115306Z
LAST-MODIFIED:20240303T115306Z
UID:2774-1719043200-1719165600@www.shirelrc.com
SUMMARY:Thruxton Historic
DESCRIPTION:Shire Land Rover Club will be camping as a group at this event – if you’d like to join us and get 50% discount on entry tickets book here and use code SLRC245TH at checkout\n \n\n\nWorld-class historic racing from a spectacular array of grids\, open-access race paddock\, fantastic spectator viewing\, car club displays and lunchtime parades\, supercar rides and much\, much more – there’s so much to see and do at this family-friendly event. There’s even free on-site camping!
URL:https://www.shirelrc.com/event/thruxton-historic/
LOCATION:Thruxton Race Circuit\, Thruxton Circuit\, Andover\, Hampshire\, SP11 8PW\, United Kingdom
CATEGORIES:Camping,Shows,Social
ATTACH;FMTTYPE=image/jpeg:https://www.shirelrc.com/wp-content/uploads/2023/03/BRS2951.jpg
ORGANIZER;CN="Historic Promotions Ltd":MAILTO:enquiries@historicpromotions.com
END:VEVENT
BEGIN:VEVENT
DTSTART;TZID=Europe/London:20240619T193000
DTEND;TZID=Europe/London:20240619T220000
DTSTAMP:20260422T024220
CREATED:20240602T211723Z
LAST-MODIFIED:20240602T211723Z
UID:2823-1718825400-1718834400@www.shirelrc.com
SUMMARY:Portsdown Hill Social
DESCRIPTION:A popular social gathering on Portsdown Hill\, just off the A3\, at the immensely scenic parking spot and burger van\, with great views of Portsmouth and indeed half of the south coast on a clear day. \nEveryone’s welcome\, come along & say hello – whether you’re a current club member or just want to find out what we’re about. \nMick’s Monster Burger is located just off the A3 on Portsdown Hill Road (B2177) overlooking Portsmouth. \n 
URL:https://www.shirelrc.com/event/portsdown-hill-social-7/
LOCATION:Mick’s Monster Burger\, Portsdown Hill\, Portsdown Hill Road (B2177) overlooking Portsmouth\, United Kingdom
CATEGORIES:Social
ATTACH;FMTTYPE=image/jpeg:https://www.shirelrc.com/wp-content/uploads/2019/08/IMG_20190725_194801-e1565683503685.jpg
END:VEVENT
BEGIN:VEVENT
DTSTART;TZID=Europe/London:20240606T193000
DTEND;TZID=Europe/London:20240606T230000
DTSTAMP:20260422T024220
CREATED:20231030T193612Z
LAST-MODIFIED:20231030T193612Z
UID:2665-1717702200-1717714800@www.shirelrc.com
SUMMARY:June Club Social
DESCRIPTION:Pop on down and say hello! \nWe get together from around 7:30pm for an evening of general chat\, who’s broken what\, upcoming events and adventures etc. \nClub socials are free and open to everyone\, whether you’re already a member or just want to find out a bit more about the club. \nAt the King Rufus pub in Chandlers Ford\, we usually congregate in the function room or the alcove to the far right hand end of the bar – if you can’t find us just ask at the bar. \n 
URL:https://www.shirelrc.com/event/june-club-social-2024/
LOCATION:The King Rufus\, 135 Winchester Road\, Chandlers Ford\, Eastleigh\, SO53 2DU\, SO53 2DU\, United Kingdom
CATEGORIES:Social
ATTACH;FMTTYPE=image/png:https://www.shirelrc.com/wp-content/uploads/2018/01/Capture-e1563347934898.png
END:VEVENT
BEGIN:VEVENT
DTSTART;TZID=Europe/London:20240519T110000
DTEND;TZID=Europe/London:20240519T160000
DTSTAMP:20260422T024220
CREATED:20240119T174002Z
LAST-MODIFIED:20240402T183951Z
UID:2751-1716116400-1716134400@www.shirelrc.com
SUMMARY:Basingstoke Festival of Transport
DESCRIPTION:A great day out for all the family\, whether you’re a keen motor buff or you just want an interesting and enjoyable Sunday. \nOnce again\, we expect that the War Memorial Park will be filled with nearly 750 vehicles. We look forward to seeing both exhibitors and visitors come and enjoy themselves. It is a wonderful family day out. This event is free of charge both for exhibitors and visitors! \nParking is available at the Old Common\, London Road (use RG21 4BY and follow the parking signs) for £3. \nAs in previous years\, there will be a huge range of vehicles on static display\, including classic\, vintage\, commercial\, fire engines and military trucks. There will also be a variety of specialist car clubs\, trade stalls and catering outlets. \nShire LRC are attending so come along and say hello! If you’d like to join us showing your vehicle on the club stand you can book here via EventBrite.\n \nThe Festival’s official website is here: https://www.rotary-ribi.org/districts/page.php?PgID=734167&DistrictNo=
URL:https://www.shirelrc.com/event/basingstoke-festival-of-transport-2/
LOCATION:Basingstoke War Memorial Park\, War Memorial Park\, Basingstoke\, Hampshire\, RG21 4AG\, United Kingdom
CATEGORIES:Shows,Social
ATTACH;FMTTYPE=image/jpeg:https://www.shirelrc.com/wp-content/uploads/2022/01/btf.jpg
END:VEVENT
BEGIN:VEVENT
DTSTART;TZID=Europe/London:20240502T193000
DTEND;TZID=Europe/London:20240502T230000
DTSTAMP:20260422T024220
CREATED:20231030T212454Z
LAST-MODIFIED:20240402T175453Z
UID:2679-1714678200-1714690800@www.shirelrc.com
SUMMARY:May Club Social & AGM [FREE DRINK!]
DESCRIPTION:Pop on down and say hello! \nWe get together from around 7:30pm for an evening of general chat\, who’s broken what\, upcoming events and adventures etc. \nThe May social is also the club AGM\, so get your best heckles ready and head on over to vote (or to volunteer) on the running of the club for the year ahead. Every member who turns up to join in will get a token for a free drink at the bar as our way of saying thank you.\n \nWe will also be proposing some updates to the club constitution to modernise it a bit – you can read about that here and let us know any feedback.. \nClub socials are free and open to everyone\, whether you’re already a member or just want to find out a bit more about the club. However\, only club members can vote or stand for a committee position at the AGM. If you’re interested in getting involved in any way please do contact us. \n 
URL:https://www.shirelrc.com/event/may-club-social-agm-2024/
LOCATION:The King Rufus\, 135 Winchester Road\, Chandlers Ford\, Eastleigh\, SO53 2DU\, SO53 2DU\, United Kingdom
CATEGORIES:AGM,Social
ATTACH;FMTTYPE=image/jpeg:https://www.shirelrc.com/wp-content/uploads/2018/01/king_rufus.jpeg
END:VEVENT
END:VCALENDAR