BEGIN:VCALENDAR
VERSION:2.0
PRODID:-//The Shire Land Rover Club - ECPv6.15.20//NONSGML v1.0//EN
CALSCALE:GREGORIAN
METHOD:PUBLISH
X-WR-CALNAME:The Shire Land Rover Club
X-ORIGINAL-URL:https://www.shirelrc.com
X-WR-CALDESC:Events for The Shire Land Rover Club
REFRESH-INTERVAL;VALUE=DURATION:PT1H
X-Robots-Tag:noindex
X-PUBLISHED-TTL:PT1H
BEGIN:VTIMEZONE
TZID:Europe/London
BEGIN:DAYLIGHT
TZOFFSETFROM:+0000
TZOFFSETTO:+0100
TZNAME:BST
DTSTART:20230326T010000
END:DAYLIGHT
BEGIN:STANDARD
TZOFFSETFROM:+0100
TZOFFSETTO:+0000
TZNAME:GMT
DTSTART:20231029T010000
END:STANDARD
BEGIN:DAYLIGHT
TZOFFSETFROM:+0000
TZOFFSETTO:+0100
TZNAME:BST
DTSTART:20240331T010000
END:DAYLIGHT
BEGIN:STANDARD
TZOFFSETFROM:+0100
TZOFFSETTO:+0000
TZNAME:GMT
DTSTART:20241027T010000
END:STANDARD
BEGIN:DAYLIGHT
TZOFFSETFROM:+0000
TZOFFSETTO:+0100
TZNAME:BST
DTSTART:20250330T010000
END:DAYLIGHT
BEGIN:STANDARD
TZOFFSETFROM:+0100
TZOFFSETTO:+0000
TZNAME:GMT
DTSTART:20251026T010000
END:STANDARD
END:VTIMEZONE
BEGIN:VEVENT
DTSTART;TZID=Europe/London:20241222T200000
DTEND;TZID=Europe/London:20241223T010000
DTSTAMP:20260425T200632
CREATED:20241124T143335Z
LAST-MODIFIED:20241124T143335Z
UID:2940-1734897600-1734915600@www.shirelrc.com
SUMMARY:Longest Night Green Laning
DESCRIPTION:To celebrate the longest night we’re heading out to drive a few lanes in the dark – please get in touch with us to join the green laning Whatsapp group and get your name on the list. \nThis will be around the Devil’s Punchbowl area.
URL:https://www.shirelrc.com/event/longest-night-laning/
LOCATION:Devil’s Punchbowl\, United Kingdom
CATEGORIES:Greenlaning
ATTACH;FMTTYPE=image/png:https://www.shirelrc.com/wp-content/uploads/2019/07/1.png
END:VEVENT
END:VCALENDAR